BEGIN:VCALENDAR
VERSION:2.0
PRODID:-//ChamberMaster//Event Calendar 2.0//EN
METHOD:PUBLISH
X-PUBLISHED-TTL:P3D
REFRESH-INTERVAL:P3D
CALSCALE:GREGORIAN
BEGIN:VEVENT
DTSTART:20220610T173000Z
DTEND:20220611T000000Z
X-MICROSOFT-CDO-ALLDAYEVENT:FALSE
SUMMARY:Golf Tournament
DESCRIPTION:NARI's Annual Golf Tournament is a great opportunity for members\, guest\, and their own customers to play a round of golf\, visit with sponsors\, and enjoy a beautiful day. \n\nShotgun start with lunch\, 2 drinks tickets\, and dinner at awards event after playing  \n\n\n\n\n\nDo you want to sponsor?
X-ALT-DESC;FMTTYPE=text/html:NARI&#39\;s Annual Golf Tournament is a great opportunity for members\, guest\, and their own customers to play a round of golf\, visit with sponsors\, and enjoy a beautiful day.&nbsp\;<br />\nShotgun start with lunch\, 2 drinks tickets\, and dinner at awards event after playing&nbsp\;&nbsp\;<br />\n<br />\n<br />\n<strong><span style="font-size:22px\;"><a href="https://austinnari.org/nwp/wp-content/uploads/2022/02/2022GolfTournamentSponsorship.pdf"><span style="color:#006400\;">Do you want to sponsor?&nbsp\;</span></a></span></strong>
LOCATION:Teravista Golf Course 4333 Teravista Club Drive - Round Rock
UID:e.3157.461
SEQUENCE:3
DTSTAMP:20260423T015625Z
URL:http://austinnari.chambermaster.com/events/details/golf-tournament-461
END:VEVENT

END:VCALENDAR
